BEGIN:VCALENDAR
PRODID:-//hacksw/handcal//NONSGML v1.0//EN
VERSION:2.0
METHOD:PUBLISH
BEGIN:VEVENT
DTSTART:20190604T190000Z
DTEND:20190604T203000Z
LOCATION:C.I. Shenanigans 
UID:1783320190604T190000ZFinal 2018-2019 Tacoma Estate Planning Council Meeting
DTSTAMP:20260422T090059Z
DESCRIPTION:
SUMMARY:Final 2018-2019 Tacoma Estate Planning Council Meeting - Tacoma Estate Planning Council 
PRIORITY:3
BEGIN:VALARM
TRIGGER:PT18H
ACTION:DISPLAY
DESCRIPTION:Reminder
END:VALARM
END:VEVENT
END:VCALENDAR