BEGIN:VCALENDAR
PRODID:-//hacksw/handcal//NONSGML v1.0//EN
VERSION:2.0
METHOD:PUBLISH
BEGIN:VEVENT
DTSTART:20260512T233000Z
DTEND:20260513T010000Z
LOCATION:Tacoma Centre - 14th Floor Tower Club
UID:2947720260512T233000ZTEPC - May Meeting
DTSTAMP:20260423T153200Z
DESCRIPTION:\nPlease join us for our final meeting of the TEPC season at the Tacoma Centre (Ebony & Ivory Coffee Bar).\n\nWe have the Tower Club reserved, which is on the 14th floor of the Tacoma Centre.\n\nThe first 30 minutes will be for networking (name badges will be provided) & Stephanie Spiro's presentation on real estate planning strategies and transitions will begin around 5:00.\n\nWe're so looking forward to seeing you,\n\nThomas, Ryan, Stephanie & Robert, TEPC Board Members\n
SUMMARY:TEPC - May Meeting - Tacoma Estate Planning Council 
PRIORITY:3
BEGIN:VALARM
TRIGGER:PT18H
ACTION:DISPLAY
DESCRIPTION:Reminder
END:VALARM
END:VEVENT
END:VCALENDAR